Package: microbiomeExplorer Version: 1.19.0 Command: /home/biocbuild/R/R/bin/R CMD build --keep-empty-dirs --no-resave-data microbiomeExplorer StartedAt: 2025-10-21 01:14:30 -0000 (Tue, 21 Oct 2025) EndedAt: 2025-10-21 01:15:17 -0000 (Tue, 21 Oct 2025) EllapsedTime: 47.0 seconds RetCode: 0 Status: OK PackageFile: microbiomeExplorer_1.19.0.tar.gz PackageFileSize: 3.56 MiB