Package: microbiomeExplorer Version: 1.19.0 Command: rm -rf microbiomeExplorer.buildbin-libdir && mkdir microbiomeExplorer.buildbin-libdir && F:\biocbuild\bbs-3.22-bioc\R\bin\R.exe CMD INSTALL --build --library=microbiomeExplorer.buildbin-libdir microbiomeExplorer_1.19.0.tar.gz StartedAt: 2025-08-15 10:41:56 -0400 (Fri, 15 Aug 2025) EndedAt: 2025-08-15 10:46:48 -0400 (Fri, 15 Aug 2025) EllapsedTime: 292.9 seconds RetCode: 0 Status: OK PackageFile: microbiomeExplorer_1.19.0.zip PackageFileSize: 3.386 MiB