Package: microbiomeExplorer Version: 1.20.0 Command: /Library/Frameworks/R.framework/Resources/bin/R CMD check --install=check:microbiomeExplorer.install-out.txt --library=/Library/Frameworks/R.framework/Resources/library --no-vignettes --timings microbiomeExplorer_1.20.0.tar.gz StartedAt: 2025-11-03 22:28:39 -0500 (Mon, 03 Nov 2025) EndedAt: 2025-11-03 22:30:38 -0500 (Mon, 03 Nov 2025) EllapsedTime: 118.8 seconds RetCode: 0 Status: OK CheckDir: microbiomeExplorer.Rcheck Warnings: 0