Package: microbiomeExplorer Version: 1.20.0 Command: /Library/Frameworks/R.framework/Resources/bin/R CMD build --keep-empty-dirs --no-resave-data microbiomeExplorer StartedAt: 2025-11-03 17:45:01 -0500 (Mon, 03 Nov 2025) EndedAt: 2025-11-03 17:45:50 -0500 (Mon, 03 Nov 2025) EllapsedTime: 49.3 seconds RetCode: 0 Status: OK PackageFile: microbiomeExplorer_1.20.0.tar.gz PackageFileSize: 2.976 MiB