Package: microbiomeDASim Version: 1.24.0 Command: /home/biocbuild/bbs-3.22-bioc/R/bin/R CMD build --keep-empty-dirs --no-resave-data --md5 microbiomeDASim StartedAt: 2025-11-09 18:45:01 -0500 (Sun, 09 Nov 2025) EndedAt: 2025-11-09 18:45:48 -0500 (Sun, 09 Nov 2025) EllapsedTime: 47.0 seconds RetCode: 0 Status: OK PackageFile: microbiomeDASim_1.24.0.tar.gz PackageFileSize: 1.5 MiB