Package: microbiome Version: 1.31.4 Command: F:\biocbuild\bbs-3.22-bioc\R\bin\R.exe CMD INSTALL microbiome StartedAt: 2025-08-14 15:52:30 -0400 (Thu, 14 Aug 2025) EndedAt: 2025-08-14 15:53:39 -0400 (Thu, 14 Aug 2025) EllapsedTime: 68.8 seconds RetCode: 0 Status: OK