Package: microbiome Version: 1.32.0 Command: /home/biocbuild/bbs-3.22-bioc/R/bin/R CMD check --install=check:microbiome.install-out.txt --library=/home/biocbuild/bbs-3.22-bioc/R/site-library --timings microbiome_1.32.0.tar.gz StartedAt: 2025-11-07 01:23:49 -0500 (Fri, 07 Nov 2025) EndedAt: 2025-11-07 01:27:16 -0500 (Fri, 07 Nov 2025) EllapsedTime: 207.2 seconds RetCode: 0 Status: OK CheckDir: microbiome.Rcheck Warnings: 0