Package: microbiome Version: 1.32.0 Command: /Library/Frameworks/R.framework/Resources/bin/R CMD INSTALL microbiome StartedAt: 2025-10-31 15:27:07 -0400 (Fri, 31 Oct 2025) EndedAt: 2025-10-31 15:27:39 -0400 (Fri, 31 Oct 2025) EllapsedTime: 31.2 seconds RetCode: 0 Status: OK