Package: microbiome Version: 1.32.0 Command: /Library/Frameworks/R.framework/Resources/bin/R CMD check --install=check:microbiome.install-out.txt --library=/Library/Frameworks/R.framework/Resources/library --no-vignettes --timings microbiome_1.32.0.tar.gz StartedAt: 2025-11-03 22:28:24 -0500 (Mon, 03 Nov 2025) EndedAt: 2025-11-03 22:32:09 -0500 (Mon, 03 Nov 2025) EllapsedTime: 224.6 seconds RetCode: 0 Status: OK CheckDir: microbiome.Rcheck Warnings: 0