Package: microbiome Version: 1.32.0 Command: rm -rf microbiome.buildbin-libdir && mkdir microbiome.buildbin-libdir && /Users/biocbuild/BBS/utils/build-universal.sh microbiome_1.32.0.tar.gz /Library/Frameworks/R.framework/Resources/bin/R microbiome.buildbin-libdir StartedAt: 2025-11-03 01:50:11 -0500 (Mon, 03 Nov 2025) EndedAt: 2025-11-03 01:50:48 -0500 (Mon, 03 Nov 2025) EllapsedTime: 36.8 seconds RetCode: 0 Status: OK PackageFile: microbiome_1.32.0.tgz PackageFileSize: 1018 KiB