Package: microbiome Version: 1.32.0 Command: /Library/Frameworks/R.framework/Resources/bin/R CMD INSTALL microbiome StartedAt: 2025-11-20 16:34:34 -0500 (Thu, 20 Nov 2025) EndedAt: 2025-11-20 16:35:00 -0500 (Thu, 20 Nov 2025) EllapsedTime: 25.9 seconds RetCode: 0 Status: OK