Package: microbiome Version: 1.32.0 Command: /Library/Frameworks/R.framework/Resources/bin/R CMD check --install=check:microbiome.install-out.txt --library=/Library/Frameworks/R.framework/Resources/library --no-vignettes --timings microbiome_1.32.0.tar.gz StartedAt: 2025-11-22 11:46:03 -0500 (Sat, 22 Nov 2025) EndedAt: 2025-11-22 11:51:31 -0500 (Sat, 22 Nov 2025) EllapsedTime: 328.0 seconds RetCode: 0 Status: OK CheckDir: microbiome.Rcheck Warnings: 0