Package: microbiome Version: 1.32.0 Command: /Library/Frameworks/R.framework/Resources/bin/R CMD build --keep-empty-dirs --no-resave-data microbiome StartedAt: 2025-11-21 05:03:45 -0500 (Fri, 21 Nov 2025) EndedAt: 2025-11-21 05:04:20 -0500 (Fri, 21 Nov 2025) EllapsedTime: 34.6 seconds RetCode: 0 Status: OK PackageFile: microbiome_1.32.0.tar.gz PackageFileSize: 714.1 KiB