Package: miaTime Version: 1.0.0 Command: /home/biocbuild/bbs-3.22-bioc/R/bin/R CMD INSTALL miaTime StartedAt: 2025-11-17 18:14:45 -0500 (Mon, 17 Nov 2025) EndedAt: 2025-11-17 18:15:32 -0500 (Mon, 17 Nov 2025) EllapsedTime: 47.3 seconds RetCode: 0 Status: OK