Package: miaTime Version: 1.0.0 Command: /Library/Frameworks/R.framework/Resources/bin/R CMD INSTALL miaTime StartedAt: 2025-11-17 18:29:17 -0500 (Mon, 17 Nov 2025) EndedAt: 2025-11-17 18:29:35 -0500 (Mon, 17 Nov 2025) EllapsedTime: 17.4 seconds RetCode: 0 Status: OK