Package: miaTime Version: 1.0.0 Command: /Library/Frameworks/R.framework/Resources/bin/R CMD build --keep-empty-dirs --no-resave-data miaTime StartedAt: 2025-11-17 22:49:43 -0500 (Mon, 17 Nov 2025) EndedAt: 2025-11-17 22:50:12 -0500 (Mon, 17 Nov 2025) EllapsedTime: 28.3 seconds RetCode: 0 Status: OK PackageFile: miaTime_1.0.0.tar.gz PackageFileSize: 6.357 MiB