Package: miaTime Version: 1.0.0 Maintainer: Tuomas Borman MaintainerEmail: tuomas.v.borman at utu.fi git_url: https://git.bioconductor.org/packages/miaTime git_branch: RELEASE_3_22 git_last_commit: 26f2a82 git_last_commit_date: 2025-10-29 11:37:15 -0500 (Wed, 29 Oct 2025)