Package: miaSim Version: 1.14.0 Command: /Library/Frameworks/R.framework/Resources/bin/R CMD check --install=check:miaSim.install-out.txt --library=/Library/Frameworks/R.framework/Resources/library --no-vignettes --timings miaSim_1.14.0.tar.gz StartedAt: 2025-04-20 21:53:37 -0400 (Sun, 20 Apr 2025) EndedAt: 2025-04-20 21:59:19 -0400 (Sun, 20 Apr 2025) EllapsedTime: 342.5 seconds RetCode: 0 Status: OK CheckDir: miaSim.Rcheck Warnings: 0