Package: miaSim Version: 1.14.0 Command: rm -rf miaSim.buildbin-libdir && mkdir miaSim.buildbin-libdir && /Users/biocbuild/BBS/utils/build-universal.sh miaSim_1.14.0.tar.gz /Library/Frameworks/R.framework/Resources/bin/R miaSim.buildbin-libdir StartedAt: 2025-04-21 00:57:02 -0400 (Mon, 21 Apr 2025) EndedAt: 2025-04-21 00:57:46 -0400 (Mon, 21 Apr 2025) EllapsedTime: 44.0 seconds RetCode: 0 Status: OK PackageFile: miaSim_1.14.0.tgz PackageFileSize: 660.4 KiB