Package: miaDash Version: 1.0.0 Command: chmod a+r miaDash -R && E:\biocbuild\bbs-3.21-bioc\R\bin\R.exe CMD build --keep-empty-dirs --no-resave-data miaDash StartedAt: 2025-08-14 20:23:35 -0400 (Thu, 14 Aug 2025) EndedAt: 2025-08-14 20:25:08 -0400 (Thu, 14 Aug 2025) EllapsedTime: 93.2 seconds RetCode: 0 Status: OK PackageFile: miaDash_1.0.0.tar.gz PackageFileSize: 2.062 MiB