Package: miaDash Version: 1.0.0 Command: /Library/Frameworks/R.framework/Resources/bin/R CMD check --install=check:miaDash.install-out.txt --library=/Library/Frameworks/R.framework/Resources/library --no-vignettes --timings miaDash_1.0.0.tar.gz StartedAt: 2025-10-14 06:28:32 -0400 (Tue, 14 Oct 2025) EndedAt: 2025-10-14 06:39:07 -0400 (Tue, 14 Oct 2025) EllapsedTime: 634.8 seconds RetCode: 0 Status: OK CheckDir: miaDash.Rcheck Warnings: 0