Package: mia Version: 1.18.0 Command: /home/biocbuild/bbs-3.22-bioc/R/bin/R CMD check --install=check:mia.install-out.txt --library=/home/biocbuild/bbs-3.22-bioc/R/site-library --timings mia_1.18.0.tar.gz StartedAt: 2025-11-03 01:41:32 -0500 (Mon, 03 Nov 2025) EndedAt: 2025-11-03 02:15:46 -0500 (Mon, 03 Nov 2025) EllapsedTime: 2053.8 seconds RetCode: 0 Status: OK CheckDir: mia.Rcheck Warnings: 0