############################################################################## ############################################################################## ### ### Running command: ### ### /home/biocbuild/bbs-3.22-bioc/R/bin/R CMD check --install=check:mia.install-out.txt --library=/home/biocbuild/bbs-3.22-bioc/R/site-library --timings mia_1.18.0.tar.gz ### ############################################################################## ############################################################################## * using log directory ‘/home/biocbuild/bbs-3.22-bioc/meat/mia.Rcheck’ * using R version 4.5.2 (2025-10-31) * using platform: x86_64-pc-linux-gnu * R was compiled by gcc (Ubuntu 13.3.0-6ubuntu2~24.04) 13.3.0 GNU Fortran (Ubuntu 13.3.0-6ubuntu2~24.04) 13.3.0 * running under: Ubuntu 24.04.3 LTS * using session charset: UTF-8 * checking for file ‘mia/DESCRIPTION’ ... OK * checking extension type ... Package * this is package ‘mia’ version ‘1.18.0’ * package encoding: UTF-8 * checking package namespace information ... OK * checking package dependencies ... INFO Imports includes 24 non-default packages. Importing from so many packages makes the package vulnerable to any of them becoming unavailable. Move as many as possible to Suggests and use conditionally. * checking if this is a source package ... OK * checking if there is a namespace ... OK * checking for hidden files and directories ... OK * checking for portable file names ... OK * checking for sufficient/correct file permissions ... OK * checking whether package ‘mia’ can be installed ... OK * used C++ compiler: ‘g++ (Ubuntu 13.3.0-6ubuntu2~24.04) 13.3.0’ * checking installed package size ... INFO installed size is 7.4Mb sub-directories of 1Mb or more: data 1.2Mb extdata 1.2Mb libs 3.6Mb * checking package directory ... OK * checking ‘build’ directory ... OK * checking DESCRIPTION meta-information ... OK * checking top-level files ... OK * checking for left-over files ... OK * checking index information ... OK * checking package subdirectories ... OK * checking code files for non-ASCII characters ... OK * checking R files for syntax errors ... OK * checking whether the package can be loaded ... OK * checking whether the package can be loaded with stated dependencies ... OK * checking whether the package can be unloaded cleanly ... OK * checking whether the namespace can be loaded with stated dependencies ... OK * checking whether the namespace can be unloaded cleanly ... OK * checking loading without being on the library search path ... OK * checking whether startup messages can be suppressed ... OK * checking dependencies in R code ... NOTE 'library' or 'require' call to ‘topicdoc’ in package code. Please use :: or requireNamespace() instead. See section 'Suggested packages' in the 'Writing R Extensions' manual. * checking S3 generic/method consistency ... OK * checking replacement functions ... OK * checking foreign function calls ... OK * checking R code for possible problems ... OK * checking Rd files ... OK * checking Rd metadata ... OK * checking Rd cross-references ... NOTE Package unavailable to check Rd xrefs: ‘picante’ Unknown package ‘https’ in Rd xrefs Non-topic package-anchored link(s) in Rd file 'calculateDMN.Rd': ‘[DirichletMultinomial:fitted]{accessors for DMN objects}’ See section 'Cross-references' in the 'Writing R Extensions' manual. Found the following Rd file(s) with Rd \link{} targets missing package anchors: addCluster.Rd: BlusterParam-class Please provide package anchors for all Rd \link{} targets not in the package itself and the base packages. * checking for missing documentation entries ... OK * checking for code/documentation mismatches ... OK * checking Rd \usage sections ... OK * checking Rd contents ... OK * checking for unstated dependencies in examples ... OK * checking contents of ‘data’ directory ... OK * checking data for non-ASCII characters ... OK * checking data for ASCII and uncompressed saves ... OK * checking line endings in C/C++/Fortran sources/headers ... OK * checking compiled code ... NOTE Note: information on .o files is not available * checking files in ‘vignettes’ ... OK * checking examples ... OK Examples with CPU (user + system) or elapsed time > 5s user system elapsed calculateDMN 63.801 0.051 63.852 addNMF 42.007 15.093 42.280 agglomerate-methods 23.774 2.203 25.977 hierarchy-tree 22.108 0.513 22.623 splitOn 11.787 0.077 11.867 transformAssay 10.892 0.111 11.003 convertFromDADA2 8.862 0.645 9.509 addAlpha 8.843 0.238 9.080 getPrevalence 8.664 0.031 8.695 addLDA 7.223 0.074 7.296 getCrossAssociation 7.052 0.095 7.147 getDissimilarity 6.850 0.231 7.007 utilization_functions 6.355 0.185 6.538 summary 5.027 0.060 5.088 * checking for unstated dependencies in ‘tests’ ... OK * checking tests ... Running ‘testthat.R’ OK * checking for unstated dependencies in vignettes ... OK * checking package vignettes ... OK * checking re-building of vignette outputs ... OK * checking PDF version of manual ... OK * DONE Status: 3 NOTEs See ‘/home/biocbuild/bbs-3.22-bioc/meat/mia.Rcheck/00check.log’ for details.