Package: mia Version: 1.16.1 Command: /home/biocbuild/R/R/bin/R CMD INSTALL mia StartedAt: 2025-10-13 21:16:17 -0000 (Mon, 13 Oct 2025) EndedAt: 2025-10-13 21:17:50 -0000 (Mon, 13 Oct 2025) EllapsedTime: 93.1 seconds RetCode: 0 Status: OK