Package: miRspongeR Version: 2.12.0 Command: E:\biocbuild\bbs-3.21-bioc\R\bin\R.exe CMD INSTALL miRspongeR StartedAt: 2025-08-14 17:01:21 -0400 (Thu, 14 Aug 2025) EndedAt: 2025-08-14 17:02:12 -0400 (Thu, 14 Aug 2025) EllapsedTime: 50.6 seconds RetCode: 0 Status: OK