Package: miRspongeR Version: 2.12.0 Command: rm -rf miRspongeR.buildbin-libdir && mkdir miRspongeR.buildbin-libdir && E:\biocbuild\bbs-3.21-bioc\R\bin\R.exe CMD INSTALL --build --library=miRspongeR.buildbin-libdir miRspongeR_2.12.0.tar.gz StartedAt: 2025-08-15 09:43:23 -0400 (Fri, 15 Aug 2025) EndedAt: 2025-08-15 09:44:14 -0400 (Fri, 15 Aug 2025) EllapsedTime: 51.2 seconds RetCode: 0 Status: OK PackageFile: miRspongeR_2.12.0.zip PackageFileSize: 797.5 KiB