Package: miRspongeR Version: 2.12.0 Command: /home/biocbuild/bbs-3.21-bioc/R/bin/R CMD build --keep-empty-dirs --no-resave-data miRspongeR StartedAt: 2025-10-15 18:33:53 -0400 (Wed, 15 Oct 2025) EndedAt: 2025-10-15 18:38:56 -0400 (Wed, 15 Oct 2025) EllapsedTime: 303.3 seconds RetCode: 1 Status: ERROR PackageFile: None PackageFileSize: NA