Package: miRspongeR Version: 2.12.0 Command: /Library/Frameworks/R.framework/Resources/bin/R CMD check --install=check:miRspongeR.install-out.txt --library=/Library/Frameworks/R.framework/Resources/library --no-vignettes --timings miRspongeR_2.12.0.tar.gz StartedAt: 2025-10-11 05:06:27 -0400 (Sat, 11 Oct 2025) EndedAt: 2025-10-11 05:13:09 -0400 (Sat, 11 Oct 2025) EllapsedTime: 402.3 seconds RetCode: 0 Status: OK CheckDir: miRspongeR.Rcheck Warnings: 0