Package: miRspongeR Version: 2.12.0 Command: rm -rf miRspongeR.buildbin-libdir && mkdir miRspongeR.buildbin-libdir && /Users/biocbuild/BBS/utils/build-universal.sh miRspongeR_2.12.0.tar.gz /Library/Frameworks/R.framework/Resources/bin/R miRspongeR.buildbin-libdir StartedAt: 2025-10-11 21:05:05 -0400 (Sat, 11 Oct 2025) EndedAt: 2025-10-11 21:05:54 -0400 (Sat, 11 Oct 2025) EllapsedTime: 48.9 seconds RetCode: 0 Status: OK PackageFile: miRspongeR_2.12.0.tgz PackageFileSize: 795.9 KiB