Package: miRcomp Version: 1.40.0 Command: /home/biocbuild/R/R/bin/R CMD INSTALL miRcomp StartedAt: 2025-11-10 21:17:50 -0000 (Mon, 10 Nov 2025) EndedAt: 2025-11-10 21:17:55 -0000 (Mon, 10 Nov 2025) EllapsedTime: 4.8 seconds RetCode: 0 Status: OK