Package: miRcomp Version: 1.40.0 Command: /home/biocbuild/bbs-3.22-bioc/R/bin/R CMD INSTALL miRcomp StartedAt: 2025-11-06 15:12:01 -0500 (Thu, 06 Nov 2025) EndedAt: 2025-11-06 15:12:05 -0500 (Thu, 06 Nov 2025) EllapsedTime: 3.5 seconds RetCode: 0 Status: OK