Package: miRcomp Version: 1.40.0 Command: rm -rf miRcomp.buildbin-libdir && mkdir miRcomp.buildbin-libdir && /Users/biocbuild/BBS/utils/build-universal.sh miRcomp_1.40.0.tar.gz /Library/Frameworks/R.framework/Resources/bin/R miRcomp.buildbin-libdir StartedAt: 2025-11-04 01:50:13 -0500 (Tue, 04 Nov 2025) EndedAt: 2025-11-04 01:50:21 -0500 (Tue, 04 Nov 2025) EllapsedTime: 8.0 seconds RetCode: 0 Status: OK PackageFile: miRcomp_1.40.0.tgz PackageFileSize: 3.081 MiB