Package: miRNAtap Version: 1.42.0 Command: E:\biocbuild\bbs-3.21-bioc\R\bin\R.exe CMD INSTALL miRNAtap StartedAt: 2025-08-14 16:02:11 -0400 (Thu, 14 Aug 2025) EndedAt: 2025-08-14 16:02:44 -0400 (Thu, 14 Aug 2025) EllapsedTime: 33.2 seconds RetCode: 0 Status: OK