Package: miRNAtap Version: 1.42.0 Command: E:\biocbuild\bbs-3.21-bioc\R\bin\R.exe CMD check --no-multiarch --install=check:miRNAtap.install-out.txt --library=E:\biocbuild\bbs-3.21-bioc\R\library --no-vignettes --timings miRNAtap_1.42.0.tar.gz StartedAt: 2025-08-15 04:13:12 -0400 (Fri, 15 Aug 2025) EndedAt: 2025-08-15 04:15:39 -0400 (Fri, 15 Aug 2025) EllapsedTime: 146.4 seconds RetCode: 0 Status: OK CheckDir: miRNAtap.Rcheck Warnings: 0