Package: miRNAtap Version: 1.42.0 Command: chmod a+r miRNAtap -R && E:\biocbuild\bbs-3.21-bioc\R\bin\R.exe CMD build --keep-empty-dirs --no-resave-data miRNAtap StartedAt: 2025-08-14 20:28:14 -0400 (Thu, 14 Aug 2025) EndedAt: 2025-08-14 20:29:10 -0400 (Thu, 14 Aug 2025) EllapsedTime: 56.1 seconds RetCode: 0 Status: OK PackageFile: miRNAtap_1.42.0.tar.gz PackageFileSize: 101.6 KiB