Package: miRNAtap Version: 1.42.0 Command: rm -rf miRNAtap.buildbin-libdir && mkdir miRNAtap.buildbin-libdir && E:\biocbuild\bbs-3.21-bioc\R\bin\R.exe CMD INSTALL --build --library=miRNAtap.buildbin-libdir miRNAtap_1.42.0.tar.gz StartedAt: 2025-08-15 09:43:21 -0400 (Fri, 15 Aug 2025) EndedAt: 2025-08-15 09:43:50 -0400 (Fri, 15 Aug 2025) EllapsedTime: 29.2 seconds RetCode: 0 Status: OK PackageFile: miRNAtap_1.42.0.zip PackageFileSize: 438.2 KiB