Package: miRNAtap Version: 1.44.0 Command: /home/biocbuild/bbs-3.22-bioc/R/bin/R CMD check --install=check:miRNAtap.install-out.txt --library=/home/biocbuild/bbs-3.22-bioc/R/site-library --timings miRNAtap_1.44.0.tar.gz StartedAt: 2025-11-17 01:42:19 -0500 (Mon, 17 Nov 2025) EndedAt: 2025-11-17 01:44:29 -0500 (Mon, 17 Nov 2025) EllapsedTime: 130.1 seconds RetCode: 0 Status: OK CheckDir: miRNAtap.Rcheck Warnings: 0