Package: miRNAtap Version: 1.42.0 Command: /Library/Frameworks/R.framework/Resources/bin/R CMD check --install=check:miRNAtap.install-out.txt --library=/Library/Frameworks/R.framework/Resources/library --no-vignettes --timings miRNAtap_1.42.0.tar.gz StartedAt: 2025-10-03 06:30:09 -0400 (Fri, 03 Oct 2025) EndedAt: 2025-10-03 06:34:01 -0400 (Fri, 03 Oct 2025) EllapsedTime: 231.6 seconds RetCode: 0 Status: OK CheckDir: miRNAtap.Rcheck Warnings: 0