Package: miRNApath Version: 1.69.0 Command: F:\biocbuild\bbs-3.22-bioc\R\bin\R.exe CMD INSTALL miRNApath StartedAt: 2025-08-14 15:22:00 -0400 (Thu, 14 Aug 2025) EndedAt: 2025-08-14 15:22:25 -0400 (Thu, 14 Aug 2025) EllapsedTime: 24.7 seconds RetCode: 0 Status: OK