Package: miRNApath Version: 1.70.0 Command: /home/biocbuild/bbs-3.22-bioc/R/bin/R CMD check --install=check:miRNApath.install-out.txt --library=/home/biocbuild/bbs-3.22-bioc/R/site-library --timings miRNApath_1.70.0.tar.gz StartedAt: 2025-11-01 01:40:46 -0400 (Sat, 01 Nov 2025) EndedAt: 2025-11-01 01:41:32 -0400 (Sat, 01 Nov 2025) EllapsedTime: 46.0 seconds RetCode: 0 Status: OK CheckDir: miRNApath.Rcheck Warnings: 0