Package: miRNApath Version: 1.70.0 Command: /home/biocbuild/bbs-3.22-bioc/R/bin/R CMD build --keep-empty-dirs --no-resave-data --md5 miRNApath StartedAt: 2025-10-31 18:53:27 -0400 (Fri, 31 Oct 2025) EndedAt: 2025-10-31 18:53:39 -0400 (Fri, 31 Oct 2025) EllapsedTime: 12.0 seconds RetCode: 0 Status: OK PackageFile: miRNApath_1.70.0.tar.gz PackageFileSize: 663.5 KiB