Package: miRNAmeConverter Version: 1.37.0 Command: F:\biocbuild\bbs-3.22-bioc\R\bin\R.exe CMD check --no-multiarch --install=check:miRNAmeConverter.install-out.txt --library=F:\biocbuild\bbs-3.22-bioc\R\library --no-vignettes --timings miRNAmeConverter_1.37.0.tar.gz StartedAt: 2025-08-15 05:14:48 -0400 (Fri, 15 Aug 2025) EndedAt: 2025-08-15 05:16:51 -0400 (Fri, 15 Aug 2025) EllapsedTime: 123.7 seconds RetCode: 0 Status: WARNINGS CheckDir: miRNAmeConverter.Rcheck Warnings: 1