Package: miRNAmeConverter Version: 1.38.0 Command: /home/biocbuild/bbs-3.22-bioc/R/bin/R CMD check --install=check:miRNAmeConverter.install-out.txt --library=/home/biocbuild/bbs-3.22-bioc/R/site-library --timings miRNAmeConverter_1.38.0.tar.gz StartedAt: 2025-11-07 01:29:07 -0500 (Fri, 07 Nov 2025) EndedAt: 2025-11-07 01:30:48 -0500 (Fri, 07 Nov 2025) EllapsedTime: 101.1 seconds RetCode: 0 Status: WARNINGS CheckDir: miRNAmeConverter.Rcheck Warnings: 1