Package: miRNAmeConverter Version: 1.38.0 Command: /home/biocbuild/bbs-3.22-bioc/R/bin/R CMD build --keep-empty-dirs --no-resave-data --md5 miRNAmeConverter StartedAt: 2025-11-06 18:43:42 -0500 (Thu, 06 Nov 2025) EndedAt: 2025-11-06 18:43:43 -0500 (Thu, 06 Nov 2025) EllapsedTime: 1.0 seconds RetCode: 0 Status: OK PackageFile: miRNAmeConverter_1.38.0.tar.gz PackageFileSize: 315.4 KiB