Package: miRBaseConverter Version: 1.33.0 Command: rm -rf miRBaseConverter.buildbin-libdir && mkdir miRBaseConverter.buildbin-libdir && F:\biocbuild\bbs-3.22-bioc\R\bin\R.exe CMD INSTALL --build --library=miRBaseConverter.buildbin-libdir miRBaseConverter_1.33.0.tar.gz StartedAt: 2025-08-15 10:42:45 -0400 (Fri, 15 Aug 2025) EndedAt: 2025-08-15 10:43:17 -0400 (Fri, 15 Aug 2025) EllapsedTime: 32.1 seconds RetCode: 0 Status: OK PackageFile: miRBaseConverter_1.33.0.zip PackageFileSize: 1.988 MiB