Package: miRBaseConverter Version: 1.32.0 Command: /Library/Frameworks/R.framework/Resources/bin/R CMD build --keep-empty-dirs --no-resave-data miRBaseConverter StartedAt: 2025-04-21 16:58:16 -0400 (Mon, 21 Apr 2025) EndedAt: 2025-04-21 16:58:28 -0400 (Mon, 21 Apr 2025) EllapsedTime: 11.2 seconds RetCode: 0 Status: OK PackageFile: miRBaseConverter_1.32.0.tar.gz PackageFileSize: 1.939 MiB