Package: miQC Version: 1.18.0 Command: /home/biocbuild/bbs-3.22-bioc/R/bin/R CMD INSTALL miQC StartedAt: 2025-11-06 15:25:31 -0500 (Thu, 06 Nov 2025) EndedAt: 2025-11-06 15:25:56 -0500 (Thu, 06 Nov 2025) EllapsedTime: 24.5 seconds RetCode: 0 Status: OK