Package: miQC Version: 1.18.0 Command: /home/biocbuild/bbs-3.22-bioc/R/bin/R CMD build --keep-empty-dirs --no-resave-data --md5 miQC StartedAt: 2025-11-06 18:42:26 -0500 (Thu, 06 Nov 2025) EndedAt: 2025-11-06 18:43:43 -0500 (Thu, 06 Nov 2025) EllapsedTime: 77.1 seconds RetCode: 0 Status: OK PackageFile: miQC_1.18.0.tar.gz PackageFileSize: 2.827 MiB