Package: mgsa Version: 1.57.0 Command: /home/biocbuild/R/R/bin/R CMD INSTALL mgsa StartedAt: 2025-10-23 20:18:58 -0000 (Thu, 23 Oct 2025) EndedAt: 2025-10-23 20:19:25 -0000 (Thu, 23 Oct 2025) EllapsedTime: 27.2 seconds RetCode: 0 Status: OK