Package: mgsa Version: 1.57.0 Command: /home/biocbuild/R/R/bin/R CMD build --keep-empty-dirs --no-resave-data mgsa StartedAt: 2025-10-21 01:12:58 -0000 (Tue, 21 Oct 2025) EndedAt: 2025-10-21 01:13:13 -0000 (Tue, 21 Oct 2025) EllapsedTime: 15.0 seconds RetCode: 0 Status: OK PackageFile: mgsa_1.57.0.tar.gz PackageFileSize: 388.2 KiB